BEGIN:VCALENDAR
PRODID://WordPress//Event-Post-V5.9.2//EN
VERSION:2.0
BEGIN:VTIMEZONE
TZID:Europe/Madrid
BEGIN:DAYLIGHT
TZOFFSETFROM:+0100
TZOFFSETTO:+0200
DTSTART:19700329T020000
RRULE:FREQ=YEARLY;BYDAY=-1SU;BYMONTH=3
END:DAYLIGHT
BEGIN:STANDARD
TZOFFSETFROM:+0200
TZOFFSETTO:+0100
TZNAME:CET
DTSTART:19701025T030000
RRULE:FREQ=YEARLY;BYDAY=-1SU;BYMONTH=10
END:STANDARD
END:VTIMEZONE
BEGIN:VEVENT
SUMMARY:142ATØ Lesotho
UID:https://alfatango.es/142ato-lesotho/
LOCATION:
DTSTAMP:20260401
DTSTART;TZID=Europe/Madrid:20260401
DTEND;TZID=Europe/Madrid:20260430
DESCRIPTION:📢 NUEVA ALFA TANGO ACTIVATION!
🇱🇸 142ATØ [Desde: LESOTHO]
👉 Por: 1ATØ96 - 1AT344 - 1AT976
ℹ️ Info en:
https://alfatango.org/index.php?option=com_content&amp;view=article&amp;id=993:142at0&amp;catid=17&amp;Itemid=237
📅 Fechas: Del 24 de Abril al 1 de Mayo de 2026
📧 QSL via: AT QSL Service
🟠 Gruppo Radio Italia ALFA TANGO ®
🌐 Official site: www.alfatango.org © 2026
END:VEVENT
END:VCALENDAR